Workbook

Sheet Cuadrante
A1: Cuadrante de turnos
A2: Cuatro semanas · elige M, T, N o L en cada casilla · cambia los datos de ejemplo por los tuyos
A4: Horas del turno M (mañana) | B4: 7 | D4: Primer día | F4: 46300
A5: Horas del turno T (tarde) | B5: 7
A6: Horas del turno N (noche) | B6: 10
G8: =INDEX(Listas!$A$1:$A$7,WEEKDAY(G9)) | H8: =INDEX(Listas!$A$1:$A$7,WEEKDAY(H9)) | I8: =INDEX(Listas!$A$1:$A$7,WEEKDAY(I9)) | J8: =INDEX(Listas!$A$1:$A$7,WEEKDAY(J9)) | K8: =INDEX(Listas!$A$1:$A$7,WEEKDAY(K9)) | L8: =INDEX(Listas!$A$1:$A$7,WEEKDAY(L9)) | M8: =INDEX(Listas!$A$1:$A$7,WEEKDAY(M9)) | N8: =INDEX(Listas!$A$1:$A$7,WEEKDAY(N9)) | ... AH8: =INDEX(Listas!$A$1:$A$7,WEEKDAY(AH9))
A9: Empleado | B9: Horas | C9: M | D9: T | E9: N | F9: L | G9: =$F$4 | H9: =G9+1 | I9: =H9+1 | J9: =I9+1 | K9: =J9+1 | L9: =K9+1 | M9: =L9+1 | N9: =M9+1 | O9: =N9+1 | ... AH9: =AG9+1
A10: Ana Pérez | B10: =C10*$B$4+D10*$B$5+E10*$B$6 | C10: =COUNTIF($G10:$AH10,"M") | D10: =COUNTIF($G10:$AH10,"T") | E10: =COUNTIF($G10:$AH10,"N") | F10: =COUNTIF($G10:$AH10,"L") | G10: M | H10: M | I10: M | J10: M | K10: M | L10: L | M10: L | N10: T | O10: T | P10: T | Q10: T | R10: T | S10: L | T10: L | U10: N | V10: N | W10: N | X10: N | Y10: N | Z10: L | AA10: L | AB10: L | AC10: L | AD10: L | AE10: L | AF10: L | AG10: L | AH10: L
A11: Luis García | B11: =C11*$B$4+D11*$B$5+E11*$B$6 | C11: =COUNTIF($G11:$AH11,"M") | D11: =COUNTIF($G11:$AH11,"T") | E11: =COUNTIF($G11:$AH11,"N") | F11: =COUNTIF($G11:$AH11,"L") | G11: M | H11: L | I11: L | J11: T | K11: T | L11: T | M11: T | N11: T | O11: L | P11: L | Q11: N | R11: N | S11: N | T11: N | U11: N | V11: L | W11: L | X11: L | Y11: L | Z11: L | AA11: L | AB11: L | AC11: L | AD11: L | AE11: M | AF11: M | AG11: M | AH11: M
A12: Marta Ruiz | B12: =C12*$B$4+D12*$B$5+E12*$B$6 | C12: =COUNTIF($G12:$AH12,"M") | D12: =COUNTIF($G12:$AH12,"T") | E12: =COUNTIF($G12:$AH12,"N") | F12: =COUNTIF($G12:$AH12,"L") | G12: T | H12: T | I12: T | J12: T | K12: L | L12: L | M12: N | N12: N | O12: N | P12: N | Q12: N | R12: L | S12: L | T12: L | U12: L | V12: L | W12: L | X12: L | Y12: L | Z12: L | AA12: M | AB12: M | AC12: M | AD12: M | AE12: M | AF12: L | AG12: L | AH12: T
A13: Pablo Sanz | B13: =C13*$B$4+D13*$B$5+E13*$B$6 | C13: =COUNTIF($G13:$AH13,"M") | D13: =COUNTIF($G13:$AH13,"T") | E13: =COUNTIF($G13:$AH13,"N") | F13: =COUNTIF($G13:$AH13,"L") | G13: L | H13: L | I13: N | J13: N | K13: N | L13: N | M13: N | N13: L | O13: L | P13: L | Q13: L | R13: L | S13: L | T13: L | U13: L | V13: L | W13: M | X13: M | Y13: M | Z13: M | AA13: M | AB13: L | AC13: L | AD13: T | AE13: T | AF13: T | AG13: T | AH13: T
A14: Carmen Vidal | B14: =C14*$B$4+D14*$B$5+E14*$B$6 | C14: =COUNTIF($G14:$AH14,"M") | D14: =COUNTIF($G14:$AH14,"T") | E14: =COUNTIF($G14:$AH14,"N") | F14: =COUNTIF($G14:$AH14,"L") | G14: N | H14: N | I14: N | J14: L | K14: L | L14: L | M14: L | N14: L | O14: L | P14: L | Q14: L | R14: L | S14: M | T14: M | U14: M | V14: M | W14: M | X14: L | Y14: L | Z14: T | AA14: T | AB14: T | AC14: T | AD14: T | AE14: L | AF14: L | AG14: N | AH14: N
A15: Jorge León | B15: =C15*$B$4+D15*$B$5+E15*$B$6 | C15: =COUNTIF($G15:$AH15,"M") | D15: =COUNTIF($G15:$AH15,"T") | E15: =COUNTIF($G15:$AH15,"N") | F15: =COUNTIF($G15:$AH15,"L") | G15: L | H15: L | I15: L | J15: L | K15: L | L15: L | M15: L | N15: L | O15: M | P15: M | Q15: M | R15: M | S15: M | T15: L | U15: L | V15: T | W15: T | X15: T | Y15: T | Z15: T | AA15: L | AB15: L | AC15: N | AD15: N | AE15: N | AF15: N | AG15: N | AH15: L
A16: Elena Torres | B16: =C16*$B$4+D16*$B$5+E16*$B$6 | C16: =COUNTIF($G16:$AH16,"M") | D16: =COUNTIF($G16:$AH16,"T") | E16: =COUNTIF($G16:$AH16,"N") | F16: =COUNTIF($G16:$AH16,"L") | G16: L | H16: L | I16: L | J16: L | K16: M | L16: M | M16: M | N16: M | O16: M | P16: L | Q16: L | R16: T | S16: T | T16: T | U16: T | V16: T | W16: L | X16: L | Y16: N | Z16: N | AA16: N | AB16: N | AC16: N | AD16: L | AE16: L | AF16: L | AG16: L | AH16: L
A17: Raúl Navarro | B17: =C17*$B$4+D17*$B$5+E17*$B$6 | C17: =COUNTIF($G17:$AH17,"M") | D17: =COUNTIF($G17:$AH17,"T") | E17: =COUNTIF($G17:$AH17,"N") | F17: =COUNTIF($G17:$AH17,"L") | G17: M | H17: M | I17: M | J17: M | K17: M | L17: L | M17: L | N17: T | O17: T | P17: T | Q17: T | R17: T | S17: L | T17: L | U17: N | V17: N | W17: N | X17: N | Y17: N | Z17: L | AA17: L | AB17: L | AC17: L | AD17: L | AE17: L | AF17: L | AG17: L | AH17: L
A18: Total | B18: =SUM(B10:B17) | C18: =SUM(C10:C17) | D18: =SUM(D10:D17) | E18: =SUM(E10:E17) | F18: =SUM(F10:F17)
A20: Personas por turno cada día
A21: Mañana | G21: =COUNTIF(G10:G17,"M") | H21: =COUNTIF(H10:H17,"M") | I21: =COUNTIF(I10:I17,"M") | J21: =COUNTIF(J10:J17,"M") | K21: =COUNTIF(K10:K17,"M") | L21: =COUNTIF(L10:L17,"M") | M21: =COUNTIF(M10:M17,"M") | N21: =COUNTIF(N10:N17,"M") | ... AH21: =COUNTIF(AH10:AH17,"M")
A22: Tarde | G22: =COUNTIF(G10:G17,"T") | H22: =COUNTIF(H10:H17,"T") | I22: =COUNTIF(I10:I17,"T") | J22: =COUNTIF(J10:J17,"T") | K22: =COUNTIF(K10:K17,"T") | L22: =COUNTIF(L10:L17,"T") | M22: =COUNTIF(M10:M17,"T") | N22: =COUNTIF(N10:N17,"T") | ... AH22: =COUNTIF(AH10:AH17,"T")
A23: Noche | G23: =COUNTIF(G10:G17,"N") | H23: =COUNTIF(H10:H17,"N") | I23: =COUNTIF(I10:I17,"N") | J23: =COUNTIF(J10:J17,"N") | K23: =COUNTIF(K10:K17,"N") | L23: =COUNTIF(L10:L17,"N") | M23: =COUNTIF(M10:M17,"N") | N23: =COUNTIF(N10:N17,"N") | ... AH23: =COUNTIF(AH10:AH17,"N")
A25: M = mañana · T = tarde · N = noche · L = libre. Revisa los descansos que exijan la ley y tu convenio.
A26: Plantilla gratuita de plantillasdeexcel.es

Sheet Listas
A1: D
A2: L
A3: M
A4: X
A5: J
A6: V
A7: S
