Workbook

Sheet Inmuebles
A1: Gestión de alquileres
A2: Tus inmuebles e inquilinos · celdas amarillas = lo que cambias
A4: Renta mensual total | B4: =SUM(D11:D22)
A5: Cobrado este año | B5: =Cobros!O19
A6: Pendiente de cobro | B6: =Cobros!P19
A7: Fianzas depositadas | B7: =SUM(E11:E22)
A10: Inmueble | B10: Inquilino | C10: Teléfono | D10: Renta mensual | E10: Fianza | F10: Inicio del contrato
A11: C/ Alcalá 120, 3.º A, Madrid | B11: Carmen Ibáñez Soto | C11: 612 345 678 | D11: 1150 | E11: 1150 | F11: 45352
A12: C/ Larios 8, 2.º, Málaga | B12: Javier Molina Ruiz | C12: 655 210 934 | D12: 950 | E12: 950 | F12: 45672
A13: Avda. Diagonal 410, 1.º 2.ª, Barcelona | B13: Núria Casals Puig | C13: 699 874 120 | D13: 1300 | E13: 1300 | F13: 45170
A14: Pza. del Pilar 4, 5.º C, Zaragoza | B14: Sergio Lasheras Gil | C14: 677 023 458 | D14: 620 | E14: 620 | F14: 45809
A15: Local, C/ Colón 22, Valencia | B15: Panadería Dulce Hogar, S.L. | C15: 963 120 456 | D15: 900 | E15: 1800 | F15: 44866
A23: TOTAL | D23: =SUM(D11:D22) | E23: =SUM(E11:E22)
A25: Plantilla gratuita de plantillasdeexcel.es

Sheet Cobros
A1: Cobros por mes
A2: Elige Cobrado o Pendiente en cada mes · la renta viene de la hoja Inmuebles
A3: Año | B3: 2026
A4: Inmueble | B4: Renta | C4: Ene | D4: Feb | E4: Mar | F4: Abr | G4: May | H4: Jun | I4: Jul | J4: Ago | K4: Sep | L4: Oct | M4: Nov | N4: Dic | O4: Cobrado | P4: Pendiente
A5: =IF(Inmuebles!A11="","",Inmuebles!A11) | B5: =IF(Inmuebles!A11="",0,Inmuebles!D11) | C5: Cobrado | D5: Cobrado | E5: Cobrado | F5: Cobrado | G5: Cobrado | H5: Cobrado | I5: Cobrado | J5: Cobrado | K5: Cobrado | L5: Cobrado | O5: =COUNTIF(C5:N5,"Cobrado")*B5 | P5: =COUNTIF(C5:N5,"Pendiente")*B5
A6: =IF(Inmuebles!A12="","",Inmuebles!A12) | B6: =IF(Inmuebles!A12="",0,Inmuebles!D12) | C6: Cobrado | D6: Cobrado | E6: Cobrado | F6: Cobrado | G6: Cobrado | H6: Cobrado | I6: Cobrado | J6: Cobrado | K6: Cobrado | L6: Pendiente | O6: =COUNTIF(C6:N6,"Cobrado")*B6 | P6: =COUNTIF(C6:N6,"Pendiente")*B6
A7: =IF(Inmuebles!A13="","",Inmuebles!A13) | B7: =IF(Inmuebles!A13="",0,Inmuebles!D13) | C7: Cobrado | D7: Cobrado | E7: Cobrado | F7: Cobrado | G7: Cobrado | H7: Cobrado | I7: Cobrado | J7: Cobrado | K7: Cobrado | L7: Cobrado | O7: =COUNTIF(C7:N7,"Cobrado")*B7 | P7: =COUNTIF(C7:N7,"Pendiente")*B7
A8: =IF(Inmuebles!A14="","",Inmuebles!A14) | B8: =IF(Inmuebles!A14="",0,Inmuebles!D14) | C8: Cobrado | D8: Cobrado | E8: Cobrado | F8: Cobrado | G8: Cobrado | H8: Cobrado | I8: Cobrado | J8: Cobrado | K8: Pendiente | L8: Pendiente | O8: =COUNTIF(C8:N8,"Cobrado")*B8 | P8: =COUNTIF(C8:N8,"Pendiente")*B8
A9: =IF(Inmuebles!A15="","",Inmuebles!A15) | B9: =IF(Inmuebles!A15="",0,Inmuebles!D15) | C9: Cobrado | D9: Cobrado | E9: Cobrado | F9: Cobrado | G9: Cobrado | H9: Cobrado | I9: Cobrado | J9: Cobrado | K9: Cobrado | L9: Cobrado | O9: =COUNTIF(C9:N9,"Cobrado")*B9 | P9: =COUNTIF(C9:N9,"Pendiente")*B9
A10: =IF(Inmuebles!A16="","",Inmuebles!A16) | B10: =IF(Inmuebles!A16="",0,Inmuebles!D16) | O10: =COUNTIF(C10:N10,"Cobrado")*B10 | P10: =COUNTIF(C10:N10,"Pendiente")*B10
A11: =IF(Inmuebles!A17="","",Inmuebles!A17) | B11: =IF(Inmuebles!A17="",0,Inmuebles!D17) | O11: =COUNTIF(C11:N11,"Cobrado")*B11 | P11: =COUNTIF(C11:N11,"Pendiente")*B11
A12: =IF(Inmuebles!A18="","",Inmuebles!A18) | B12: =IF(Inmuebles!A18="",0,Inmuebles!D18) | O12: =COUNTIF(C12:N12,"Cobrado")*B12 | P12: =COUNTIF(C12:N12,"Pendiente")*B12
A13: =IF(Inmuebles!A19="","",Inmuebles!A19) | B13: =IF(Inmuebles!A19="",0,Inmuebles!D19) | O13: =COUNTIF(C13:N13,"Cobrado")*B13 | P13: =COUNTIF(C13:N13,"Pendiente")*B13
A14: =IF(Inmuebles!A20="","",Inmuebles!A20) | B14: =IF(Inmuebles!A20="",0,Inmuebles!D20) | O14: =COUNTIF(C14:N14,"Cobrado")*B14 | P14: =COUNTIF(C14:N14,"Pendiente")*B14
A15: =IF(Inmuebles!A21="","",Inmuebles!A21) | B15: =IF(Inmuebles!A21="",0,Inmuebles!D21) | O15: =COUNTIF(C15:N15,"Cobrado")*B15 | P15: =COUNTIF(C15:N15,"Pendiente")*B15
A16: =IF(Inmuebles!A22="","",Inmuebles!A22) | B16: =IF(Inmuebles!A22="",0,Inmuebles!D22) | O16: =COUNTIF(C16:N16,"Cobrado")*B16 | P16: =COUNTIF(C16:N16,"Pendiente")*B16
A17: Cobrado en el mes | C17: =SUMIF(C5:C16,"Cobrado",$B5:$B16) | D17: =SUMIF(D5:D16,"Cobrado",$B5:$B16) | E17: =SUMIF(E5:E16,"Cobrado",$B5:$B16) | F17: =SUMIF(F5:F16,"Cobrado",$B5:$B16) | G17: =SUMIF(G5:G16,"Cobrado",$B5:$B16) | H17: =SUMIF(H5:H16,"Cobrado",$B5:$B16) | I17: =SUMIF(I5:I16,"Cobrado",$B5:$B16) | J17: =SUMIF(J5:J16,"Cobrado",$B5:$B16) | ... N17: =SUMIF(N5:N16,"Cobrado",$B5:$B16)
A18: Pendiente en el mes | C18: =SUMIF(C5:C16,"Pendiente",$B5:$B16) | D18: =SUMIF(D5:D16,"Pendiente",$B5:$B16) | E18: =SUMIF(E5:E16,"Pendiente",$B5:$B16) | F18: =SUMIF(F5:F16,"Pendiente",$B5:$B16) | G18: =SUMIF(G5:G16,"Pendiente",$B5:$B16) | H18: =SUMIF(H5:H16,"Pendiente",$B5:$B16) | I18: =SUMIF(I5:I16,"Pendiente",$B5:$B16) | J18: =SUMIF(J5:J16,"Pendiente",$B5:$B16) | ... N18: =SUMIF(N5:N16,"Pendiente",$B5:$B16)
A19: TOTAL DEL AÑO | O19: =SUM(O5:O16) | P19: =SUM(P5:P16)
A21: Las rentas de meses sin marcar no cuentan como cobradas ni como pendientes.
A23: Plantilla gratuita de plantillasdeexcel.es
