Workbook

Sheet Registro
A1: Registro de jornada laboral
A2: Mes: octubre de 2026 · cambia los datos de ejemplo por los tuyos
A4: Trabajador/a | B4: Marta Ruiz López
A5: Jornada diaria | B5: 0.33333333
A7: Horas trabajadas en el mes | C7: =F36
A8: Horas que tocaban (días con registro) | C8: =COUNTIF(F14:F35,">0")*B5
A9: Saldo de horas | C9: =C7-C8
A10: Horas extra | C10: =G36
H12: Total por semanas
A13: Fecha | B13: Día | C13: Entrada | D13: Salida | E13: Pausa | F13: Horas trabajadas | G13: Horas extra | H13: Semana desde | I13: Horas
A14: 46296 | B14: =INDEX(Listas!$A$1:$A$7,WEEKDAY(A14)) | C14: 0.33333333 | D14: 0.70833333 | E14: 0.041666667 | F14: =IF(OR(C14="",D14=""),0,MAX(0,D14-C14-E14)) | G14: =MAX(0,F14-$B$5) | H14: 46293 | I14: =SUMIFS($F$14:$F$35,$A$14:$A$35,">="&H14,$A$14:$A$35,"<="&H14+6)
A15: 46297 | B15: =INDEX(Listas!$A$1:$A$7,WEEKDAY(A15)) | C15: 0.33680556 | D15: 0.71875 | E15: 0.041666667 | F15: =IF(OR(C15="",D15=""),0,MAX(0,D15-C15-E15)) | G15: =MAX(0,F15-$B$5) | H15: 46300 | I15: =SUMIFS($F$14:$F$35,$A$14:$A$35,">="&H15,$A$14:$A$35,"<="&H15+6)
A16: 46300 | B16: =INDEX(Listas!$A$1:$A$7,WEEKDAY(A16)) | C16: 0.32986111 | D16: 0.72916667 | E16: 0.041666667 | F16: =IF(OR(C16="",D16=""),0,MAX(0,D16-C16-E16)) | G16: =MAX(0,F16-$B$5) | H16: 46307 | I16: =SUMIFS($F$14:$F$35,$A$14:$A$35,">="&H16,$A$14:$A$35,"<="&H16+6)
A17: 46301 | B17: =INDEX(Listas!$A$1:$A$7,WEEKDAY(A17)) | C17: 0.33333333 | D17: 0.70833333 | E17: 0.041666667 | F17: =IF(OR(C17="",D17=""),0,MAX(0,D17-C17-E17)) | G17: =MAX(0,F17-$B$5) | H17: 46314 | I17: =SUMIFS($F$14:$F$35,$A$14:$A$35,">="&H17,$A$14:$A$35,"<="&H17+6)
A18: 46302 | B18: =INDEX(Listas!$A$1:$A$7,WEEKDAY(A18)) | C18: 0.34027778 | D18: 0.75694444 | E18: 0.041666667 | F18: =IF(OR(C18="",D18=""),0,MAX(0,D18-C18-E18)) | G18: =MAX(0,F18-$B$5) | H18: 46321 | I18: =SUMIFS($F$14:$F$35,$A$14:$A$35,">="&H18,$A$14:$A$35,"<="&H18+6)
A19: 46303 | B19: =INDEX(Listas!$A$1:$A$7,WEEKDAY(A19)) | C19: 0.33333333 | D19: 0.70486111 | E19: 0.041666667 | F19: =IF(OR(C19="",D19=""),0,MAX(0,D19-C19-E19)) | G19: =MAX(0,F19-$B$5)
A20: 46304 | B20: =INDEX(Listas!$A$1:$A$7,WEEKDAY(A20)) | C20: 0.33333333 | D20: 0.70833333 | E20: 0.041666667 | F20: =IF(OR(C20="",D20=""),0,MAX(0,D20-C20-E20)) | G20: =MAX(0,F20-$B$5)
A21: 46307 | B21: =INDEX(Listas!$A$1:$A$7,WEEKDAY(A21)) | C21: 0.35416667 | D21: 0.72916667 | E21: 0.041666667 | F21: =IF(OR(C21="",D21=""),0,MAX(0,D21-C21-E21)) | G21: =MAX(0,F21-$B$5)
A22: 46308 | B22: =INDEX(Listas!$A$1:$A$7,WEEKDAY(A22)) | C22: 0.33333333 | D22: 0.70833333 | E22: 0.041666667 | F22: =IF(OR(C22="",D22=""),0,MAX(0,D22-C22-E22)) | G22: =MAX(0,F22-$B$5)
A23: 46309 | B23: =INDEX(Listas!$A$1:$A$7,WEEKDAY(A23)) | C23: 0.32638889 | D23: 0.70833333 | E23: 0.041666667 | F23: =IF(OR(C23="",D23=""),0,MAX(0,D23-C23-E23)) | G23: =MAX(0,F23-$B$5)
A24: 46310 | B24: =INDEX(Listas!$A$1:$A$7,WEEKDAY(A24)) | C24: 0.33333333 | D24: 0.79166667 | E24: 0.041666667 | F24: =IF(OR(C24="",D24=""),0,MAX(0,D24-C24-E24)) | G24: =MAX(0,F24-$B$5)
A25: 46311 | B25: =INDEX(Listas!$A$1:$A$7,WEEKDAY(A25)) | C25: 0.33333333 | D25: 0.70833333 | E25: 0.041666667 | F25: =IF(OR(C25="",D25=""),0,MAX(0,D25-C25-E25)) | G25: =MAX(0,F25-$B$5)
A26: 46314 | B26: =INDEX(Listas!$A$1:$A$7,WEEKDAY(A26)) | C26: 0.34375 | D26: 0.71875 | E26: 0.041666667 | F26: =IF(OR(C26="",D26=""),0,MAX(0,D26-C26-E26)) | G26: =MAX(0,F26-$B$5)
A27: 46315 | B27: =INDEX(Listas!$A$1:$A$7,WEEKDAY(A27)) | C27: 0.33333333 | D27: 0.70833333 | E27: 0.041666667 | F27: =IF(OR(C27="",D27=""),0,MAX(0,D27-C27-E27)) | G27: =MAX(0,F27-$B$5)
A28: 46316 | B28: =INDEX(Listas!$A$1:$A$7,WEEKDAY(A28)) | C28: 0.33333333 | D28: 0.70833333 | E28: 0.041666667 | F28: =IF(OR(C28="",D28=""),0,MAX(0,D28-C28-E28)) | G28: =MAX(0,F28-$B$5)
A29: 46317 | B29: =INDEX(Listas!$A$1:$A$7,WEEKDAY(A29)) | C29: 0.33333333 | D29: 0.70833333 | E29: 0.041666667 | F29: =IF(OR(C29="",D29=""),0,MAX(0,D29-C29-E29)) | G29: =MAX(0,F29-$B$5)
A30: 46318 | B30: =INDEX(Listas!$A$1:$A$7,WEEKDAY(A30)) | C30: 0.33333333 | D30: 0.73611111 | E30: 0.041666667 | F30: =IF(OR(C30="",D30=""),0,MAX(0,D30-C30-E30)) | G30: =MAX(0,F30-$B$5)
... A35: 46325 | B35: =INDEX(Listas!$A$1:$A$7,WEEKDAY(A35)) | C35: 0.33333333 | D35: 0.70833333 | E35: 0.041666667 | F35: =IF(OR(C35="",D35=""),0,MAX(0,D35-C35-E35)) | G35: =MAX(0,F35-$B$5)
A36: Total | F36: =SUM(F14:F35) | G36: =SUM(G14:G35)
A38: Ayuda sencilla: el registro de jornada (art. 34.9 del Estatuto de los Trabajadores) se conserva cuatro años.
A39: Plantilla gratuita de plantillasdeexcel.es

Sheet Listas
A1: domingo
A2: lunes
A3: martes
A4: miércoles
A5: jueves
A6: viernes
A7: sábado
