Workbook

Sheet Ventas
A1: Registro de ventas diarias
A2: Una línea por producto vendido · repite el nº de ticket en las líneas de una misma compra
A4: Fecha | B4: Ticket | C4: Categoría | D4: Producto | E4: Unidades | F4: Precio | G4: Importe | H4: Mes | I4: Año | J4: Ticket nuevo
A5: 46293 | B5: 3101 | C5: Cafés | D5: Café con leche | E5: 2 | F5: 1.6 | G5: =IF(E5="",0,E5*F5) | H5: =IF(A5="",0,MONTH(A5)) | I5: =IF(A5="",0,YEAR(A5)) | J5: =IF(B5="",0,IF(COUNTIF($B$5:B5,B5+0)=1,1,0))
A6: 46293 | B6: 3101 | C6: Bollería | D6: Croissant | E6: 2 | F6: 1.8 | G6: =IF(E6="",0,E6*F6) | H6: =IF(A6="",0,MONTH(A6)) | I6: =IF(A6="",0,YEAR(A6)) | J6: =IF(B6="",0,IF(COUNTIF($B$5:B6,B6+0)=1,1,0))
A7: 46293 | B7: 3102 | C7: Menú | D7: Menú del día | E7: 1 | F7: 13.5 | G7: =IF(E7="",0,E7*F7) | H7: =IF(A7="",0,MONTH(A7)) | I7: =IF(A7="",0,YEAR(A7)) | J7: =IF(B7="",0,IF(COUNTIF($B$5:B7,B7+0)=1,1,0))
A8: 46294 | B8: 3103 | C8: Cafés | D8: Cortado | E8: 1 | F8: 1.4 | G8: =IF(E8="",0,E8*F8) | H8: =IF(A8="",0,MONTH(A8)) | I8: =IF(A8="",0,YEAR(A8)) | J8: =IF(B8="",0,IF(COUNTIF($B$5:B8,B8+0)=1,1,0))
A9: 46294 | B9: 3104 | C9: Menú | D9: Menú del día | E9: 3 | F9: 13.5 | G9: =IF(E9="",0,E9*F9) | H9: =IF(A9="",0,MONTH(A9)) | I9: =IF(A9="",0,YEAR(A9)) | J9: =IF(B9="",0,IF(COUNTIF($B$5:B9,B9+0)=1,1,0))
A10: 46294 | B10: 3104 | C10: Bebidas | D10: Agua 50 cl | E10: 3 | F10: 1.2 | G10: =IF(E10="",0,E10*F10) | H10: =IF(A10="",0,MONTH(A10)) | I10: =IF(A10="",0,YEAR(A10)) | J10: =IF(B10="",0,IF(COUNTIF($B$5:B10,B10+0)=1,1,0))
A11: 46295 | B11: 3105 | C11: Cafés | D11: Café solo | E11: 2 | F11: 1.3 | G11: =IF(E11="",0,E11*F11) | H11: =IF(A11="",0,MONTH(A11)) | I11: =IF(A11="",0,YEAR(A11)) | J11: =IF(B11="",0,IF(COUNTIF($B$5:B11,B11+0)=1,1,0))
A12: 46295 | B12: 3106 | C12: Bollería | D12: Napolitana | E12: 1 | F12: 1.9 | G12: =IF(E12="",0,E12*F12) | H12: =IF(A12="",0,MONTH(A12)) | I12: =IF(A12="",0,YEAR(A12)) | J12: =IF(B12="",0,IF(COUNTIF($B$5:B12,B12+0)=1,1,0))
A13: 46296 | B13: 3107 | C13: Cafés | D13: Café con leche | E13: 1 | F13: 1.6 | G13: =IF(E13="",0,E13*F13) | H13: =IF(A13="",0,MONTH(A13)) | I13: =IF(A13="",0,YEAR(A13)) | J13: =IF(B13="",0,IF(COUNTIF($B$5:B13,B13+0)=1,1,0))
A14: 46296 | B14: 3107 | C14: Bollería | D14: Tostada con tomate | E14: 1 | F14: 2.5 | G14: =IF(E14="",0,E14*F14) | H14: =IF(A14="",0,MONTH(A14)) | I14: =IF(A14="",0,YEAR(A14)) | J14: =IF(B14="",0,IF(COUNTIF($B$5:B14,B14+0)=1,1,0))
A15: 46296 | B15: 3108 | C15: Menú | D15: Menú del día | E15: 2 | F15: 13.5 | G15: =IF(E15="",0,E15*F15) | H15: =IF(A15="",0,MONTH(A15)) | I15: =IF(A15="",0,YEAR(A15)) | J15: =IF(B15="",0,IF(COUNTIF($B$5:B15,B15+0)=1,1,0))
A16: 46296 | B16: 3108 | C16: Bebidas | D16: Caña | E16: 2 | F16: 2.2 | G16: =IF(E16="",0,E16*F16) | H16: =IF(A16="",0,MONTH(A16)) | I16: =IF(A16="",0,YEAR(A16)) | J16: =IF(B16="",0,IF(COUNTIF($B$5:B16,B16+0)=1,1,0))
... A28: 46301 | B28: 3116 | C28: Menú | D28: Menú del día | E28: 3 | F28: 13.5 | G28: =IF(E28="",0,E28*F28) | H28: =IF(A28="",0,MONTH(A28)) | I28: =IF(A28="",0,YEAR(A28)) | J28: =IF(B28="",0,IF(COUNTIF($B$5:B28,B28+0)=1,1,0))
G29: =IF(E29="",0,E29*F29) | H29: =IF(A29="",0,MONTH(A29)) | I29: =IF(A29="",0,YEAR(A29)) | J29: =IF(B29="",0,IF(COUNTIF($B$5:B29,B29+0)=1,1,0))
G30: =IF(E30="",0,E30*F30) | H30: =IF(A30="",0,MONTH(A30)) | I30: =IF(A30="",0,YEAR(A30)) | J30: =IF(B30="",0,IF(COUNTIF($B$5:B30,B30+0)=1,1,0))
G31: =IF(E31="",0,E31*F31) | H31: =IF(A31="",0,MONTH(A31)) | I31: =IF(A31="",0,YEAR(A31)) | J31: =IF(B31="",0,IF(COUNTIF($B$5:B31,B31+0)=1,1,0))
G32: =IF(E32="",0,E32*F32) | H32: =IF(A32="",0,MONTH(A32)) | I32: =IF(A32="",0,YEAR(A32)) | J32: =IF(B32="",0,IF(COUNTIF($B$5:B32,B32+0)=1,1,0))
G33: =IF(E33="",0,E33*F33) | H33: =IF(A33="",0,MONTH(A33)) | I33: =IF(A33="",0,YEAR(A33)) | J33: =IF(B33="",0,IF(COUNTIF($B$5:B33,B33+0)=1,1,0))
G34: =IF(E34="",0,E34*F34) | H34: =IF(A34="",0,MONTH(A34)) | I34: =IF(A34="",0,YEAR(A34)) | J34: =IF(B34="",0,IF(COUNTIF($B$5:B34,B34+0)=1,1,0))
G35: =IF(E35="",0,E35*F35) | H35: =IF(A35="",0,MONTH(A35)) | I35: =IF(A35="",0,YEAR(A35)) | J35: =IF(B35="",0,IF(COUNTIF($B$5:B35,B35+0)=1,1,0))
G36: =IF(E36="",0,E36*F36) | H36: =IF(A36="",0,MONTH(A36)) | I36: =IF(A36="",0,YEAR(A36)) | J36: =IF(B36="",0,IF(COUNTIF($B$5:B36,B36+0)=1,1,0))
G37: =IF(E37="",0,E37*F37) | H37: =IF(A37="",0,MONTH(A37)) | I37: =IF(A37="",0,YEAR(A37)) | J37: =IF(B37="",0,IF(COUNTIF($B$5:B37,B37+0)=1,1,0))
G38: =IF(E38="",0,E38*F38) | H38: =IF(A38="",0,MONTH(A38)) | I38: =IF(A38="",0,YEAR(A38)) | J38: =IF(B38="",0,IF(COUNTIF($B$5:B38,B38+0)=1,1,0))
G39: =IF(E39="",0,E39*F39) | H39: =IF(A39="",0,MONTH(A39)) | I39: =IF(A39="",0,YEAR(A39)) | J39: =IF(B39="",0,IF(COUNTIF($B$5:B39,B39+0)=1,1,0))
G40: =IF(E40="",0,E40*F40) | H40: =IF(A40="",0,MONTH(A40)) | I40: =IF(A40="",0,YEAR(A40)) | J40: =IF(B40="",0,IF(COUNTIF($B$5:B40,B40+0)=1,1,0))
... G304: =IF(E304="",0,E304*F304) | H304: =IF(A304="",0,MONTH(A304)) | I304: =IF(A304="",0,YEAR(A304)) | J304: =IF(B304="",0,IF(COUNTIF($B$5:B304,B304+0)=1,1,0))
A306: Plantilla gratuita de plantillasdeexcel.es

Sheet Resumen
A1: Resumen de ventas
A2: Elige el año en la celda amarilla
A3: Año | B3: 2026
A5: Mes | B5: Ventas | C5: Unidades | D5: Tickets | E5: Ticket medio
A6: Enero | B6: =SUMIFS(Ventas!$G$5:$G$304,Ventas!$H$5:$H$304,1,Ventas!$I$5:$I$304,$B$3) | C6: =SUMIFS(Ventas!$E$5:$E$304,Ventas!$H$5:$H$304,1,Ventas!$I$5:$I$304,$B$3) | D6: =SUMIFS(Ventas!$J$5:$J$304,Ventas!$H$5:$H$304,1,Ventas!$I$5:$I$304,$B$3) | E6: =IFERROR(B6/D6,0)
A7: Febrero | B7: =SUMIFS(Ventas!$G$5:$G$304,Ventas!$H$5:$H$304,2,Ventas!$I$5:$I$304,$B$3) | C7: =SUMIFS(Ventas!$E$5:$E$304,Ventas!$H$5:$H$304,2,Ventas!$I$5:$I$304,$B$3) | D7: =SUMIFS(Ventas!$J$5:$J$304,Ventas!$H$5:$H$304,2,Ventas!$I$5:$I$304,$B$3) | E7: =IFERROR(B7/D7,0)
A8: Marzo | B8: =SUMIFS(Ventas!$G$5:$G$304,Ventas!$H$5:$H$304,3,Ventas!$I$5:$I$304,$B$3) | C8: =SUMIFS(Ventas!$E$5:$E$304,Ventas!$H$5:$H$304,3,Ventas!$I$5:$I$304,$B$3) | D8: =SUMIFS(Ventas!$J$5:$J$304,Ventas!$H$5:$H$304,3,Ventas!$I$5:$I$304,$B$3) | E8: =IFERROR(B8/D8,0)
A9: Abril | B9: =SUMIFS(Ventas!$G$5:$G$304,Ventas!$H$5:$H$304,4,Ventas!$I$5:$I$304,$B$3) | C9: =SUMIFS(Ventas!$E$5:$E$304,Ventas!$H$5:$H$304,4,Ventas!$I$5:$I$304,$B$3) | D9: =SUMIFS(Ventas!$J$5:$J$304,Ventas!$H$5:$H$304,4,Ventas!$I$5:$I$304,$B$3) | E9: =IFERROR(B9/D9,0)
A10: Mayo | B10: =SUMIFS(Ventas!$G$5:$G$304,Ventas!$H$5:$H$304,5,Ventas!$I$5:$I$304,$B$3) | C10: =SUMIFS(Ventas!$E$5:$E$304,Ventas!$H$5:$H$304,5,Ventas!$I$5:$I$304,$B$3) | D10: =SUMIFS(Ventas!$J$5:$J$304,Ventas!$H$5:$H$304,5,Ventas!$I$5:$I$304,$B$3) | E10: =IFERROR(B10/D10,0)
A11: Junio | B11: =SUMIFS(Ventas!$G$5:$G$304,Ventas!$H$5:$H$304,6,Ventas!$I$5:$I$304,$B$3) | C11: =SUMIFS(Ventas!$E$5:$E$304,Ventas!$H$5:$H$304,6,Ventas!$I$5:$I$304,$B$3) | D11: =SUMIFS(Ventas!$J$5:$J$304,Ventas!$H$5:$H$304,6,Ventas!$I$5:$I$304,$B$3) | E11: =IFERROR(B11/D11,0)
A12: Julio | B12: =SUMIFS(Ventas!$G$5:$G$304,Ventas!$H$5:$H$304,7,Ventas!$I$5:$I$304,$B$3) | C12: =SUMIFS(Ventas!$E$5:$E$304,Ventas!$H$5:$H$304,7,Ventas!$I$5:$I$304,$B$3) | D12: =SUMIFS(Ventas!$J$5:$J$304,Ventas!$H$5:$H$304,7,Ventas!$I$5:$I$304,$B$3) | E12: =IFERROR(B12/D12,0)
A13: Agosto | B13: =SUMIFS(Ventas!$G$5:$G$304,Ventas!$H$5:$H$304,8,Ventas!$I$5:$I$304,$B$3) | C13: =SUMIFS(Ventas!$E$5:$E$304,Ventas!$H$5:$H$304,8,Ventas!$I$5:$I$304,$B$3) | D13: =SUMIFS(Ventas!$J$5:$J$304,Ventas!$H$5:$H$304,8,Ventas!$I$5:$I$304,$B$3) | E13: =IFERROR(B13/D13,0)
A14: Septiembre | B14: =SUMIFS(Ventas!$G$5:$G$304,Ventas!$H$5:$H$304,9,Ventas!$I$5:$I$304,$B$3) | C14: =SUMIFS(Ventas!$E$5:$E$304,Ventas!$H$5:$H$304,9,Ventas!$I$5:$I$304,$B$3) | D14: =SUMIFS(Ventas!$J$5:$J$304,Ventas!$H$5:$H$304,9,Ventas!$I$5:$I$304,$B$3) | E14: =IFERROR(B14/D14,0)
A15: Octubre | B15: =SUMIFS(Ventas!$G$5:$G$304,Ventas!$H$5:$H$304,10,Ventas!$I$5:$I$304,$B$3) | C15: =SUMIFS(Ventas!$E$5:$E$304,Ventas!$H$5:$H$304,10,Ventas!$I$5:$I$304,$B$3) | D15: =SUMIFS(Ventas!$J$5:$J$304,Ventas!$H$5:$H$304,10,Ventas!$I$5:$I$304,$B$3) | E15: =IFERROR(B15/D15,0)
A16: Noviembre | B16: =SUMIFS(Ventas!$G$5:$G$304,Ventas!$H$5:$H$304,11,Ventas!$I$5:$I$304,$B$3) | C16: =SUMIFS(Ventas!$E$5:$E$304,Ventas!$H$5:$H$304,11,Ventas!$I$5:$I$304,$B$3) | D16: =SUMIFS(Ventas!$J$5:$J$304,Ventas!$H$5:$H$304,11,Ventas!$I$5:$I$304,$B$3) | E16: =IFERROR(B16/D16,0)
A17: Diciembre | B17: =SUMIFS(Ventas!$G$5:$G$304,Ventas!$H$5:$H$304,12,Ventas!$I$5:$I$304,$B$3) | C17: =SUMIFS(Ventas!$E$5:$E$304,Ventas!$H$5:$H$304,12,Ventas!$I$5:$I$304,$B$3) | D17: =SUMIFS(Ventas!$J$5:$J$304,Ventas!$H$5:$H$304,12,Ventas!$I$5:$I$304,$B$3) | E17: =IFERROR(B17/D17,0)
A18: TOTAL AÑO | B18: =SUM(B6:B17) | C18: =SUM(C6:C17) | D18: =SUM(D6:D17) | E18: =IFERROR(B18/D18,0)
A20: Ticket medio del año | B20: =E18
A22: Categoría | B22: Ventas | C22: % del total
A23: Cafés | B23: =SUMIFS(Ventas!$G$5:$G$304,Ventas!$C$5:$C$304,A23,Ventas!$I$5:$I$304,$B$3) | C23: =IFERROR(B23/$B$18,0)
A24: Bollería | B24: =SUMIFS(Ventas!$G$5:$G$304,Ventas!$C$5:$C$304,A24,Ventas!$I$5:$I$304,$B$3) | C24: =IFERROR(B24/$B$18,0)
A25: Menú | B25: =SUMIFS(Ventas!$G$5:$G$304,Ventas!$C$5:$C$304,A25,Ventas!$I$5:$I$304,$B$3) | C25: =IFERROR(B25/$B$18,0)
A26: Bebidas | B26: =SUMIFS(Ventas!$G$5:$G$304,Ventas!$C$5:$C$304,A26,Ventas!$I$5:$I$304,$B$3) | C26: =IFERROR(B26/$B$18,0)
A27: Otros | B27: =SUMIFS(Ventas!$G$5:$G$304,Ventas!$C$5:$C$304,A27,Ventas!$I$5:$I$304,$B$3) | C27: =IFERROR(B27/$B$18,0)
A29: Escribe las categorías igual que en la hoja Ventas. El porcentaje es sobre las ventas totales del año.
A31: Plantilla gratuita de plantillasdeexcel.es
